BEGIN:VCALENDAR
VERSION:2.0
PRODID:-//Plone.org//NONSGML plone.app.event//EN
X-WR-TIMEZONE:Europe/Berlin
BEGIN:VEVENT
SUMMARY:Duša Orchestra
DTSTART;TZID=Europe/Berlin:20070404T203000
DTSTAMP:20260422T081121Z
UID:feae2f27942945c78cb60951bef7a8af@zmi.spielboden.at
CREATED:20120822T144947Z
DESCRIPTION:Akkordeon-Festival am Spielboden - 4. März bis 10. Mai 2007\n
LAST-MODIFIED:20210809T123641Z
URL:https://zmi.spielboden.at/Plone/veranstaltungen/2007/04_april/2007-04-
 04-20-30-dusa-orchestra
END:VEVENT
BEGIN:VTIMEZONE
TZID:Europe/Berlin
X-LIC-LOCATION:Europe/Berlin
BEGIN:DAYLIGHT
DTSTART:20070325T030000
TZNAME:CEST
TZOFFSETFROM:+0100
TZOFFSETTO:+0200
END:DAYLIGHT
END:VTIMEZONE
END:VCALENDAR
