BEGIN:VCALENDAR
VERSION:2.0
PRODID:-//Plone.org//NONSGML plone.app.event//EN
X-WR-TIMEZONE:Europe/Berlin
BEGIN:VEVENT
SUMMARY:Dokumentarfilm – La dignidad de los nadies
DTSTART;TZID=Europe/Berlin:20070404T203000
DTSTAMP:20260422T081906Z
UID:178041d0f62446eb912b954f9d162e93@zmi.spielboden.at
CREATED:20120822T144952Z
LAST-MODIFIED:20210809T123642Z
URL:https://zmi.spielboden.at/Plone/veranstaltungen/2007/04_april/2007-04-
 04-20-30-dokumentarfilm-2013-la-dignidad-de-los-nadies
END:VEVENT
BEGIN:VTIMEZONE
TZID:Europe/Berlin
X-LIC-LOCATION:Europe/Berlin
BEGIN:DAYLIGHT
DTSTART:20070325T030000
TZNAME:CEST
TZOFFSETFROM:+0100
TZOFFSETTO:+0200
END:DAYLIGHT
END:VTIMEZONE
END:VCALENDAR
