BEGIN:VCALENDAR
VERSION:2.0
PRODID:-//Plone.org//NONSGML plone.app.event//EN
X-WR-TIMEZONE:Europe/Berlin
BEGIN:VEVENT
SUMMARY:Kindertheater Schneck+Co – Post für den Tiger
DTSTART;TZID=Europe/Berlin:20070331T150000
DTSTAMP:20260422T070738Z
UID:9f009e022774459fa52fb655dfcb2d51@zmi.spielboden.at
CREATED:20120822T144918Z
DESCRIPTION:Familientheatererlebnis ab 4 Jahren
LAST-MODIFIED:20210809T123634Z
URL:https://zmi.spielboden.at/Plone/veranstaltungen/2007/03_maerz/2007-03-
 31-15-00-kindertheater-schneck-co-2013-post-fuer-den-tiger
END:VEVENT
BEGIN:VTIMEZONE
TZID:Europe/Berlin
X-LIC-LOCATION:Europe/Berlin
BEGIN:DAYLIGHT
DTSTART:20070325T030000
TZNAME:CEST
TZOFFSETFROM:+0100
TZOFFSETTO:+0200
END:DAYLIGHT
END:VTIMEZONE
END:VCALENDAR
