BEGIN:VCALENDAR
VERSION:2.0
PRODID:-//Plone.org//NONSGML plone.app.event//EN
X-WR-TIMEZONE:Europe/Berlin
BEGIN:VEVENT
SUMMARY:Tintenfischalarm
DTSTART;TZID=Europe/Berlin:20070330T203000
DTSTAMP:20260422T081406Z
UID:43bb2af4aba6453696544721c49c35dd@zmi.spielboden.at
CREATED:20120822T144938Z
LAST-MODIFIED:20210809T123639Z
URL:https://zmi.spielboden.at/Plone/veranstaltungen/2007/03_maerz/2007-03-
 30-20-30-tintenfischalarm
END:VEVENT
BEGIN:VTIMEZONE
TZID:Europe/Berlin
X-LIC-LOCATION:Europe/Berlin
BEGIN:DAYLIGHT
DTSTART:20070325T030000
TZNAME:CEST
TZOFFSETFROM:+0100
TZOFFSETTO:+0200
END:DAYLIGHT
END:VTIMEZONE
END:VCALENDAR
