BEGIN:VCALENDAR
VERSION:2.0
PRODID:-//Plone.org//NONSGML plone.app.event//EN
X-WR-TIMEZONE:Europe/Berlin
BEGIN:VEVENT
SUMMARY:Über Wasser
DTSTART;TZID=Europe/Berlin:20070329T203000
DTSTAMP:20260422T094450Z
UID:f738e740f6a24bf79dfb097eb1ca7520@zmi.spielboden.at
CREATED:20120822T144932Z
DESCRIPTION:Vorarlberg-Premiere
LAST-MODIFIED:20210809T123637Z
URL:https://zmi.spielboden.at/Plone/veranstaltungen/2007/03_maerz/2007-03-
 29-20-30-ueber-wasser
END:VEVENT
BEGIN:VTIMEZONE
TZID:Europe/Berlin
X-LIC-LOCATION:Europe/Berlin
BEGIN:DAYLIGHT
DTSTART:20070325T030000
TZNAME:CEST
TZOFFSETFROM:+0100
TZOFFSETTO:+0200
END:DAYLIGHT
END:VTIMEZONE
END:VCALENDAR
