BEGIN:VCALENDAR
VERSION:2.0
PRODID:-//Plone.org//NONSGML plone.app.event//EN
X-WR-TIMEZONE:Europe/Berlin
BEGIN:VEVENT
SUMMARY:Antonio Negri
DTSTART;TZID=Europe/Berlin:20070327T203000
DTSTAMP:20260422T081335Z
UID:833d6c6a46494bfa844e4efbe0563ee4@zmi.spielboden.at
CREATED:20120822T144935Z
LAST-MODIFIED:20210809T123637Z
URL:https://zmi.spielboden.at/Plone/veranstaltungen/2007/03_maerz/2007-03-
 27-20-30-antonio-negri
END:VEVENT
BEGIN:VTIMEZONE
TZID:Europe/Berlin
X-LIC-LOCATION:Europe/Berlin
BEGIN:DAYLIGHT
DTSTART:20070325T030000
TZNAME:CEST
TZOFFSETFROM:+0100
TZOFFSETTO:+0200
END:DAYLIGHT
END:VTIMEZONE
END:VCALENDAR
