BEGIN:VCALENDAR
VERSION:2.0
PRODID:-//Plone.org//NONSGML plone.app.event//EN
X-WR-TIMEZONE:Europe/Berlin
BEGIN:VEVENT
SUMMARY:Jahreshauptversammlung des Vereins Spielboden
DTSTART;TZID=Europe/Berlin:20070326T190000
DTSTAMP:20260422T081631Z
UID:dd1ee463cb8d41c88427b3b53bc67abf@zmi.spielboden.at
CREATED:20120822T144941Z
LAST-MODIFIED:20120910T114131Z
URL:https://zmi.spielboden.at/Plone/veranstaltungen/2007/03_maerz/2007-03-
 26-19-00-jahreshauptversammlung-des-vereins-spielboden
END:VEVENT
BEGIN:VTIMEZONE
TZID:Europe/Berlin
X-LIC-LOCATION:Europe/Berlin
BEGIN:DAYLIGHT
DTSTART:20070325T030000
TZNAME:CEST
TZOFFSETFROM:+0100
TZOFFSETTO:+0200
END:DAYLIGHT
END:VTIMEZONE
END:VCALENDAR
