BEGIN:VCALENDAR
VERSION:2.0
PRODID:-//Plone.org//NONSGML plone.app.event//EN
X-WR-TIMEZONE:Europe/Berlin
BEGIN:VEVENT
SUMMARY:Jazz&Akkordeon - Klaus Paier Trio
DTSTART;TZID=Europe/Berlin:20070324T203000
DTSTAMP:20260422T070651Z
UID:00eb95c0467e412eb4fb7bc6ce2c8bbd@zmi.spielboden.at
CREATED:20120822T144919Z
DESCRIPTION:Akkordeon-Festival am Spielboden - 4. März bis 10. Mai 2007\n
LAST-MODIFIED:20210809T123634Z
URL:https://zmi.spielboden.at/Plone/veranstaltungen/2007/03_maerz/2007-03-
 24-20-30-jazz-akkordeon-klaus-paier-trio
END:VEVENT
BEGIN:VTIMEZONE
TZID:Europe/Berlin
X-LIC-LOCATION:Europe/Berlin
BEGIN:STANDARD
DTSTART:20061029T020000
TZNAME:CET
TZOFFSETFROM:+0200
TZOFFSETTO:+0100
END:STANDARD
END:VTIMEZONE
END:VCALENDAR
