BEGIN:VCALENDAR
VERSION:2.0
PRODID:-//Plone.org//NONSGML plone.app.event//EN
X-WR-TIMEZONE:Europe/Berlin
BEGIN:VEVENT
SUMMARY:Spielboden Kasperletheater
DTSTART;TZID=Europe/Berlin:20070324T150000
DTSTAMP:20260422T064631Z
UID:ce036164523e4469ba8fe5919e340418@zmi.spielboden.at
CREATED:20120822T144917Z
DESCRIPTION:Puppentheater ab 4 Jahren
LAST-MODIFIED:20210809T123634Z
URL:https://zmi.spielboden.at/Plone/veranstaltungen/2007/03_maerz/2007-03-
 24-15-00-spielboden-kasperletheater
END:VEVENT
BEGIN:VTIMEZONE
TZID:Europe/Berlin
X-LIC-LOCATION:Europe/Berlin
BEGIN:STANDARD
DTSTART:20061029T020000
TZNAME:CET
TZOFFSETFROM:+0200
TZOFFSETTO:+0100
END:STANDARD
END:VTIMEZONE
END:VCALENDAR
