BEGIN:VCALENDAR
VERSION:2.0
PRODID:-//Plone.org//NONSGML plone.app.event//EN
X-WR-TIMEZONE:Europe/Berlin
BEGIN:VEVENT
SUMMARY:Garish
DTSTART;TZID=Europe/Berlin:20070323T210000
DTSTAMP:20260422T080520Z
UID:0c07dd706a724e2093ba5b5d686fef90@zmi.spielboden.at
CREATED:20120822T144923Z
DESCRIPTION:Support: Chris and the other Girls
LAST-MODIFIED:20210809T123636Z
URL:https://zmi.spielboden.at/Plone/veranstaltungen/2007/03_maerz/2007-03-
 23-21-00-garish
END:VEVENT
BEGIN:VTIMEZONE
TZID:Europe/Berlin
X-LIC-LOCATION:Europe/Berlin
BEGIN:STANDARD
DTSTART:20061029T020000
TZNAME:CET
TZOFFSETFROM:+0200
TZOFFSETTO:+0100
END:STANDARD
END:VTIMEZONE
END:VCALENDAR
