BEGIN:VCALENDAR
VERSION:2.0
PRODID:-//Plone.org//NONSGML plone.app.event//EN
X-WR-TIMEZONE:Europe/Berlin
BEGIN:VEVENT
SUMMARY:DIAGONALE Kurzfilmprogramm
DTSTART;TZID=Europe/Berlin:20070322T210000
DTSTAMP:20260422T081332Z
UID:2935b0a6790a467cb4d54412a3d85acc@zmi.spielboden.at
CREATED:20120822T144938Z
LAST-MODIFIED:20120910T114131Z
URL:https://zmi.spielboden.at/Plone/veranstaltungen/2007/03_maerz/2007-03-
 22-21-00-diagonale-kurzfilmprogramm
END:VEVENT
BEGIN:VTIMEZONE
TZID:Europe/Berlin
X-LIC-LOCATION:Europe/Berlin
BEGIN:STANDARD
DTSTART:20061029T020000
TZNAME:CET
TZOFFSETFROM:+0200
TZOFFSETTO:+0100
END:STANDARD
END:VTIMEZONE
END:VCALENDAR
