BEGIN:VCALENDAR
VERSION:2.0
PRODID:-//Plone.org//NONSGML plone.app.event//EN
X-WR-TIMEZONE:Europe/Berlin
BEGIN:VEVENT
SUMMARY:Über Wasser
DTSTART;TZID=Europe/Berlin:20070321T203000
DTSTAMP:20260422T064354Z
UID:dc8b632f3efe40c681e07ebca2982be2@zmi.spielboden.at
CREATED:20120822T144931Z
DESCRIPTION:Vorarlberg-Premiere
LAST-MODIFIED:20210809T123636Z
URL:https://zmi.spielboden.at/Plone/veranstaltungen/2007/03_maerz/2007-03-
 21-20-30-ueber-wasser
END:VEVENT
BEGIN:VTIMEZONE
TZID:Europe/Berlin
X-LIC-LOCATION:Europe/Berlin
BEGIN:STANDARD
DTSTART:20061029T020000
TZNAME:CET
TZOFFSETFROM:+0200
TZOFFSETTO:+0100
END:STANDARD
END:VTIMEZONE
END:VCALENDAR
