BEGIN:VCALENDAR
VERSION:2.0
PRODID:-//Plone.org//NONSGML plone.app.event//EN
X-WR-TIMEZONE:Europe/Berlin
BEGIN:VEVENT
SUMMARY:Black & House Lounge
DTSTART;TZID=Europe/Berlin:20070317T210000
DTSTAMP:20260422T064456Z
UID:4b78c58a00f4415c94fe3f5cf42cc49c@zmi.spielboden.at
CREATED:20120822T144943Z
LAST-MODIFIED:20120910T114131Z
URL:https://zmi.spielboden.at/Plone/veranstaltungen/2007/03_maerz/2007-03-
 17-21-00-black-house-lounge
END:VEVENT
BEGIN:VTIMEZONE
TZID:Europe/Berlin
X-LIC-LOCATION:Europe/Berlin
BEGIN:STANDARD
DTSTART:20061029T020000
TZNAME:CET
TZOFFSETFROM:+0200
TZOFFSETTO:+0100
END:STANDARD
END:VTIMEZONE
END:VCALENDAR
