BEGIN:VCALENDAR
VERSION:2.0
PRODID:-//Plone.org//NONSGML plone.app.event//EN
X-WR-TIMEZONE:Europe/Berlin
BEGIN:VEVENT
SUMMARY:Jeunesse für Kinder - Bilder einer Ausstellung
DTSTART;TZID=Europe/Berlin:20070317T150000
DTSTAMP:20260422T052958Z
UID:2aee3909bf3e4dbea181bbb239bd4c88@zmi.spielboden.at
CREATED:20120822T144914Z
DESCRIPTION:Mussorgskijs Klassiker als szenische Aufführung für Kinder a
 b 7 Jahren
LAST-MODIFIED:20210809T123634Z
URL:https://zmi.spielboden.at/Plone/veranstaltungen/2007/03_maerz/2007-03-
 17-15-00-jeunesse-fuer-kinder-bilder-einer-ausstellung
END:VEVENT
BEGIN:VTIMEZONE
TZID:Europe/Berlin
X-LIC-LOCATION:Europe/Berlin
BEGIN:STANDARD
DTSTART:20061029T020000
TZNAME:CET
TZOFFSETFROM:+0200
TZOFFSETTO:+0100
END:STANDARD
END:VTIMEZONE
END:VCALENDAR
