BEGIN:VCALENDAR
VERSION:2.0
PRODID:-//Plone.org//NONSGML plone.app.event//EN
X-WR-TIMEZONE:Europe/Berlin
BEGIN:VEVENT
SUMMARY:Der Ewige Gärtner
DTSTART;TZID=Europe/Berlin:20070316T203000
DTSTAMP:20260422T064417Z
UID:44a6157cb9a64a3e91599424232b246b@zmi.spielboden.at
CREATED:20120822T144936Z
LAST-MODIFIED:20210809T123639Z
URL:https://zmi.spielboden.at/Plone/veranstaltungen/2007/03_maerz/2007-03-
 16-20-30-der-ewige-gaertner
END:VEVENT
BEGIN:VTIMEZONE
TZID:Europe/Berlin
X-LIC-LOCATION:Europe/Berlin
BEGIN:STANDARD
DTSTART:20061029T020000
TZNAME:CET
TZOFFSETFROM:+0200
TZOFFSETTO:+0100
END:STANDARD
END:VTIMEZONE
END:VCALENDAR
