BEGIN:VCALENDAR
VERSION:2.0
PRODID:-//Plone.org//NONSGML plone.app.event//EN
X-WR-TIMEZONE:Europe/Berlin
BEGIN:VEVENT
SUMMARY:Rule of Law
DTSTART;TZID=Europe/Berlin:20070314T203000
DTSTAMP:20260422T052815Z
UID:439e313e56e7434aa536c6a5d9e9939d@zmi.spielboden.at
CREATED:20120822T144931Z
LAST-MODIFIED:20210809T123636Z
URL:https://zmi.spielboden.at/Plone/veranstaltungen/2007/03_maerz/2007-03-
 14-20-30-rule-of-law
END:VEVENT
BEGIN:VTIMEZONE
TZID:Europe/Berlin
X-LIC-LOCATION:Europe/Berlin
BEGIN:STANDARD
DTSTART:20061029T020000
TZNAME:CET
TZOFFSETFROM:+0200
TZOFFSETTO:+0100
END:STANDARD
END:VTIMEZONE
END:VCALENDAR
