BEGIN:VCALENDAR
VERSION:2.0
PRODID:-//Plone.org//NONSGML plone.app.event//EN
X-WR-TIMEZONE:Europe/Berlin
BEGIN:VEVENT
SUMMARY:Pop&Wave Party in der Kantine
DTSTART;TZID=Europe/Berlin:20070310T210000
DTSTAMP:20260422T051653Z
UID:38be0ac4e89d4b789515f6bd7ed099df@zmi.spielboden.at
CREATED:20120822T144943Z
LAST-MODIFIED:20120910T114131Z
URL:https://zmi.spielboden.at/Plone/veranstaltungen/2007/03_maerz/2007-03-
 10-21-00-pop-wave-party-in-der-kantine
END:VEVENT
BEGIN:VTIMEZONE
TZID:Europe/Berlin
X-LIC-LOCATION:Europe/Berlin
BEGIN:STANDARD
DTSTART:20061029T020000
TZNAME:CET
TZOFFSETFROM:+0200
TZOFFSETTO:+0100
END:STANDARD
END:VTIMEZONE
END:VCALENDAR
