BEGIN:VCALENDAR
VERSION:2.0
PRODID:-//Plone.org//NONSGML plone.app.event//EN
X-WR-TIMEZONE:Europe/Berlin
BEGIN:VEVENT
SUMMARY:Der Ewige Gärtner
DTSTART;TZID=Europe/Berlin:20070310T203000
DTSTAMP:20260422T051558Z
UID:0bb9eb6a495b4b5e944f9aa36ae65ab7@zmi.spielboden.at
CREATED:20120822T144936Z
LAST-MODIFIED:20210809T123637Z
URL:https://zmi.spielboden.at/Plone/veranstaltungen/2007/03_maerz/2007-03-
 10-20-30-der-ewige-gaertner
END:VEVENT
BEGIN:VTIMEZONE
TZID:Europe/Berlin
X-LIC-LOCATION:Europe/Berlin
BEGIN:STANDARD
DTSTART:20061029T020000
TZNAME:CET
TZOFFSETFROM:+0200
TZOFFSETTO:+0100
END:STANDARD
END:VTIMEZONE
END:VCALENDAR
