BEGIN:VCALENDAR
VERSION:2.0
PRODID:-//Plone.org//NONSGML plone.app.event//EN
X-WR-TIMEZONE:Europe/Berlin
BEGIN:VEVENT
SUMMARY:Kindertheater Theaterlabor – Winnie der Bär
DTSTART;TZID=Europe/Berlin:20070310T150000
DTSTAMP:20260422T064629Z
UID:b621e77f4ea1456f94075be264c10046@zmi.spielboden.at
CREATED:20120822T144917Z
DESCRIPTION:Schauspiel-Mitmachtheater ab 3 Jahren
LAST-MODIFIED:20210809T123634Z
URL:https://zmi.spielboden.at/Plone/veranstaltungen/2007/03_maerz/2007-03-
 10-15-00-kindertheater-theaterlabor-2013-winnie-der-baer
END:VEVENT
BEGIN:VTIMEZONE
TZID:Europe/Berlin
X-LIC-LOCATION:Europe/Berlin
BEGIN:STANDARD
DTSTART:20061029T020000
TZNAME:CET
TZOFFSETFROM:+0200
TZOFFSETTO:+0100
END:STANDARD
END:VTIMEZONE
END:VCALENDAR
