BEGIN:VCALENDAR
VERSION:2.0
PRODID:-//Plone.org//NONSGML plone.app.event//EN
X-WR-TIMEZONE:Europe/Berlin
BEGIN:VEVENT
SUMMARY:Fanfare Ciocarlia feat. “Kings & Queens”
DTSTART;TZID=Europe/Berlin:20070309T203000
DTSTAMP:20260422T064647Z
UID:979d9ab4d6474062b5c074552295f558@zmi.spielboden.at
CREATED:20120822T144923Z
LAST-MODIFIED:20210809T123635Z
URL:https://zmi.spielboden.at/Plone/veranstaltungen/2007/03_maerz/2007-03-
 09-20-30-fanfare-ciocarlia-feat-201ckings-queens201d
END:VEVENT
BEGIN:VTIMEZONE
TZID:Europe/Berlin
X-LIC-LOCATION:Europe/Berlin
BEGIN:STANDARD
DTSTART:20061029T020000
TZNAME:CET
TZOFFSETFROM:+0200
TZOFFSETTO:+0100
END:STANDARD
END:VTIMEZONE
END:VCALENDAR
