BEGIN:VCALENDAR
VERSION:2.0
PRODID:-//Plone.org//NONSGML plone.app.event//EN
X-WR-TIMEZONE:Europe/Berlin
BEGIN:VEVENT
SUMMARY:Vortrag und Diskussion mit Dr. Clément Mutombo – Gemischte Ehen
DTSTART;TZID=Europe/Berlin:20070308T203000
DTSTAMP:20260422T064328Z
UID:0a831207d7864d8485095955026ffc9e@zmi.spielboden.at
CREATED:20120822T144922Z
LAST-MODIFIED:20210809T123635Z
URL:https://zmi.spielboden.at/Plone/veranstaltungen/2007/03_maerz/2007-03-
 08-20-30-vortrag-und-diskussion-mit-dr-clement-mutombo-2013-gemischte-ehen
END:VEVENT
BEGIN:VTIMEZONE
TZID:Europe/Berlin
X-LIC-LOCATION:Europe/Berlin
BEGIN:STANDARD
DTSTART:20061029T020000
TZNAME:CET
TZOFFSETFROM:+0200
TZOFFSETTO:+0100
END:STANDARD
END:VTIMEZONE
END:VCALENDAR
