BEGIN:VCALENDAR
VERSION:2.0
PRODID:-//Plone.org//NONSGML plone.app.event//EN
X-WR-TIMEZONE:Europe/Berlin
BEGIN:VEVENT
SUMMARY:Antonio Negri
DTSTART;TZID=Europe/Berlin:20070307T203000
DTSTAMP:20260422T064458Z
UID:5e09afcdfc3a4e4f89adaf20035cfbfb@zmi.spielboden.at
CREATED:20120822T144934Z
LAST-MODIFIED:20210809T123637Z
URL:https://zmi.spielboden.at/Plone/veranstaltungen/2007/03_maerz/2007-03-
 07-20-30-antonio-negri
END:VEVENT
BEGIN:VTIMEZONE
TZID:Europe/Berlin
X-LIC-LOCATION:Europe/Berlin
BEGIN:STANDARD
DTSTART:20061029T020000
TZNAME:CET
TZOFFSETFROM:+0200
TZOFFSETTO:+0100
END:STANDARD
END:VTIMEZONE
END:VCALENDAR
