BEGIN:VCALENDAR
VERSION:2.0
PRODID:-//Plone.org//NONSGML plone.app.event//EN
X-WR-TIMEZONE:Europe/Berlin
BEGIN:VEVENT
SUMMARY:Zamballarana - Musik aus Korsika
DTSTART;TZID=Europe/Berlin:20070304T203000
DTSTAMP:20260422T064719Z
UID:36e49eefd20e4dda9de1e6a25c5d2a85@zmi.spielboden.at
CREATED:20120822T144920Z
DESCRIPTION:Akkordeon-Festival am Spielboden - 4. März bis 10. Mai 2007\n
LAST-MODIFIED:20210809T123635Z
URL:https://zmi.spielboden.at/Plone/veranstaltungen/2007/03_maerz/2007-03-
 04-20-30-zamballarana-musik-aus-korsika
END:VEVENT
BEGIN:VTIMEZONE
TZID:Europe/Berlin
X-LIC-LOCATION:Europe/Berlin
BEGIN:STANDARD
DTSTART:20061029T020000
TZNAME:CET
TZOFFSETFROM:+0200
TZOFFSETTO:+0100
END:STANDARD
END:VTIMEZONE
END:VCALENDAR
