BEGIN:VCALENDAR
VERSION:2.0
PRODID:-//Plone.org//NONSGML plone.app.event//EN
X-WR-TIMEZONE:Europe/Berlin
BEGIN:VEVENT
SUMMARY:George Nußbaumer – Randy Newmann Projekt
DTSTART;TZID=Europe/Berlin:20070303T203000
DTSTAMP:20260422T064506Z
UID:e00523625fd94dfe84aae9ce5bc9fde4@zmi.spielboden.at
CREATED:20120822T144922Z
LAST-MODIFIED:20210809T123635Z
URL:https://zmi.spielboden.at/Plone/veranstaltungen/2007/03_maerz/2007-03-
 03-20-30-george-nussbaumer-2013-randy-newmann-projekt
END:VEVENT
BEGIN:VTIMEZONE
TZID:Europe/Berlin
X-LIC-LOCATION:Europe/Berlin
BEGIN:STANDARD
DTSTART:20061029T020000
TZNAME:CET
TZOFFSETFROM:+0200
TZOFFSETTO:+0100
END:STANDARD
END:VTIMEZONE
END:VCALENDAR
