BEGIN:VCALENDAR
VERSION:2.0
PRODID:-//Plone.org//NONSGML plone.app.event//EN
X-WR-TIMEZONE:Europe/Berlin
BEGIN:VEVENT
SUMMARY:Kindertheater Wagabunt -CHUI-CHUI-CHUI - PREMIERE
DTSTART;TZID=Europe/Berlin:20070303T150000
DTSTAMP:20260422T064629Z
UID:0e194d7f2956485890b7bb78fa914462@zmi.spielboden.at
CREATED:20120822T144916Z
DESCRIPTION:Schauspieltheater für Kinder ab 5 Jahren
LAST-MODIFIED:20210809T123634Z
URL:https://zmi.spielboden.at/Plone/veranstaltungen/2007/03_maerz/2007-03-
 03-15-00-kindertheater-wagabunt-chui-chui-chui-premiere
END:VEVENT
BEGIN:VTIMEZONE
TZID:Europe/Berlin
X-LIC-LOCATION:Europe/Berlin
BEGIN:STANDARD
DTSTART:20061029T020000
TZNAME:CET
TZOFFSETFROM:+0200
TZOFFSETTO:+0100
END:STANDARD
END:VTIMEZONE
END:VCALENDAR
