BEGIN:VCALENDAR
VERSION:2.0
PRODID:-//Plone.org//NONSGML plone.app.event//EN
X-WR-TIMEZONE:Europe/Berlin
BEGIN:VEVENT
SUMMARY:Afro-Funk – Kilimandscharo Dub & Riddim Society
DTSTART;TZID=Europe/Berlin:20070302T203000
DTSTAMP:20260422T064648Z
UID:d9040aa6b1af420a97fb762e7dd521e8@zmi.spielboden.at
CREATED:20120822T144921Z
LAST-MODIFIED:20210809T123635Z
URL:https://zmi.spielboden.at/Plone/veranstaltungen/2007/03_maerz/2007-03-
 02-20-30-afro-funk-2013-kilimandscharo-dub-riddim-society
END:VEVENT
BEGIN:VTIMEZONE
TZID:Europe/Berlin
X-LIC-LOCATION:Europe/Berlin
BEGIN:STANDARD
DTSTART:20061029T020000
TZNAME:CET
TZOFFSETFROM:+0200
TZOFFSETTO:+0100
END:STANDARD
END:VTIMEZONE
END:VCALENDAR
