BEGIN:VCALENDAR
VERSION:2.0
PRODID:-//Plone.org//NONSGML plone.app.event//EN
X-WR-TIMEZONE:Europe/Berlin
BEGIN:VEVENT
SUMMARY:RESFEST – Radiohead\, The Visionaries
DTSTART;TZID=Europe/Berlin:20070228T203000
DTSTAMP:20260422T052811Z
UID:d8c9fe8274fb4e119c2616b89c1f2f71@zmi.spielboden.at
CREATED:20120822T144906Z
DESCRIPTION:A Decade Of Breaking New Talent
LAST-MODIFIED:20210809T123631Z
URL:https://zmi.spielboden.at/Plone/veranstaltungen/2007/02_februar/2007-0
 2-28-20-30-resfest-2013-radiohead-the-visionaries
END:VEVENT
BEGIN:VTIMEZONE
TZID:Europe/Berlin
X-LIC-LOCATION:Europe/Berlin
BEGIN:STANDARD
DTSTART:20061029T020000
TZNAME:CET
TZOFFSETFROM:+0200
TZOFFSETTO:+0100
END:STANDARD
END:VTIMEZONE
END:VCALENDAR
