BEGIN:VCALENDAR
VERSION:2.0
PRODID:-//Plone.org//NONSGML plone.app.event//EN
X-WR-TIMEZONE:Europe/Berlin
BEGIN:VEVENT
SUMMARY:The Globe
DTSTART;TZID=Europe/Berlin:20070224T210000
DTSTAMP:20260422T130736Z
UID:c5f42d6d2b72412885cf8c20bd78c0d3@zmi.spielboden.at
CREATED:20120822T144913Z
DESCRIPTION:World-Music-Dance-Event
LAST-MODIFIED:20210809T123633Z
URL:https://zmi.spielboden.at/Plone/veranstaltungen/2007/02_februar/2007-0
 2-24-21-00-the-globe
END:VEVENT
BEGIN:VTIMEZONE
TZID:Europe/Berlin
X-LIC-LOCATION:Europe/Berlin
BEGIN:STANDARD
DTSTART:20061029T020000
TZNAME:CET
TZOFFSETFROM:+0200
TZOFFSETTO:+0100
END:STANDARD
END:VTIMEZONE
END:VCALENDAR
