BEGIN:VCALENDAR
VERSION:2.0
PRODID:-//Plone.org//NONSGML plone.app.event//EN
X-WR-TIMEZONE:Europe/Berlin
BEGIN:VEVENT
SUMMARY:Malediva – “Ab heute verliebt”
DTSTART;TZID=Europe/Berlin:20070222T203000
DTSTAMP:20260422T034954Z
UID:d3480af432a443ce98b8da8d22686004@zmi.spielboden.at
CREATED:20120822T144911Z
LAST-MODIFIED:20210809T123633Z
URL:https://zmi.spielboden.at/Plone/veranstaltungen/2007/02_februar/2007-0
 2-22-20-30-malediva-2013-201cab-heute-verliebt201d
END:VEVENT
BEGIN:VTIMEZONE
TZID:Europe/Berlin
X-LIC-LOCATION:Europe/Berlin
BEGIN:STANDARD
DTSTART:20061029T020000
TZNAME:CET
TZOFFSETFROM:+0200
TZOFFSETTO:+0100
END:STANDARD
END:VTIMEZONE
END:VCALENDAR
