BEGIN:VCALENDAR
VERSION:2.0
PRODID:-//Plone.org//NONSGML plone.app.event//EN
X-WR-TIMEZONE:Europe/Berlin
BEGIN:VEVENT
SUMMARY:Dorobirar Maschgoronacht 2007
DTSTART;TZID=Europe/Berlin:20070219T200000
DTSTAMP:20260422T052352Z
UID:7b9b66c49f5c45e7bc4fd09340ebe36a@zmi.spielboden.at
CREATED:20120822T144911Z
DESCRIPTION:Ball der Pfadfindergruppe Dornbirn
LAST-MODIFIED:20120910T114128Z
URL:https://zmi.spielboden.at/Plone/veranstaltungen/2007/02_februar/2007-0
 2-19-20-00-dorobirar-maschgoronacht-2007
END:VEVENT
BEGIN:VTIMEZONE
TZID:Europe/Berlin
X-LIC-LOCATION:Europe/Berlin
BEGIN:STANDARD
DTSTART:20061029T020000
TZNAME:CET
TZOFFSETFROM:+0200
TZOFFSETTO:+0100
END:STANDARD
END:VTIMEZONE
END:VCALENDAR
