BEGIN:VCALENDAR
VERSION:2.0
PRODID:-//Plone.org//NONSGML plone.app.event//EN
X-WR-TIMEZONE:Europe/Berlin
BEGIN:VEVENT
SUMMARY:Zauberer Phantomas & Lia Fantastica - Kinderzaubershow
DTSTART;TZID=Europe/Berlin:20070217T150000
DTSTAMP:20260422T062724Z
UID:7662897d0cb74195a8fbe42afe0584fd@zmi.spielboden.at
CREATED:20120822T144902Z
DESCRIPTION:Kinderzaubernachmittag ab 4 Jahren
LAST-MODIFIED:20210809T123631Z
URL:https://zmi.spielboden.at/Plone/veranstaltungen/2007/02_februar/2007-0
 2-17-15-00-zauberer-phantomas-lia-fantastica-kinderzaubershow
END:VEVENT
BEGIN:VTIMEZONE
TZID:Europe/Berlin
X-LIC-LOCATION:Europe/Berlin
BEGIN:STANDARD
DTSTART:20061029T020000
TZNAME:CET
TZOFFSETFROM:+0200
TZOFFSETTO:+0100
END:STANDARD
END:VTIMEZONE
END:VCALENDAR
