BEGIN:VCALENDAR
VERSION:2.0
PRODID:-//Plone.org//NONSGML plone.app.event//EN
X-WR-TIMEZONE:Europe/Berlin
BEGIN:VEVENT
SUMMARY:Afrikanischer Workshop
DTSTART;TZID=Europe/Berlin:20070217T100000
DTSTAMP:20260422T034745Z
UID:5958e172dd6c4aa0b022ee6b288a223d@zmi.spielboden.at
CREATED:20120822T144910Z
DESCRIPTION:Trommeln – Tanzen – Singen und Percussion mit Kofi Quarshi
 e und Raphael Kofi aus Ghana\n
LAST-MODIFIED:20120910T114128Z
URL:https://zmi.spielboden.at/Plone/veranstaltungen/2007/02_februar/2007-0
 2-17-10-00-afrikanischer-workshop
END:VEVENT
BEGIN:VTIMEZONE
TZID:Europe/Berlin
X-LIC-LOCATION:Europe/Berlin
BEGIN:STANDARD
DTSTART:20061029T020000
TZNAME:CET
TZOFFSETFROM:+0200
TZOFFSETTO:+0100
END:STANDARD
END:VTIMEZONE
END:VCALENDAR
