BEGIN:VCALENDAR
VERSION:2.0
PRODID:-//Plone.org//NONSGML plone.app.event//EN
X-WR-TIMEZONE:Europe/Berlin
BEGIN:VEVENT
SUMMARY:Sommer 04
DTSTART;TZID=Europe/Berlin:20070214T203000
DTSTAMP:20260422T051812Z
UID:ee596770e8454dc19512acc9c34619e2@zmi.spielboden.at
CREATED:20120822T144908Z
DESCRIPTION:Filmreihe: Die (neue) Berliner Schule
LAST-MODIFIED:20210809T123633Z
URL:https://zmi.spielboden.at/Plone/veranstaltungen/2007/02_februar/2007-0
 2-14-20-30-sommer-04
END:VEVENT
BEGIN:VTIMEZONE
TZID:Europe/Berlin
X-LIC-LOCATION:Europe/Berlin
BEGIN:STANDARD
DTSTART:20061029T020000
TZNAME:CET
TZOFFSETFROM:+0200
TZOFFSETTO:+0100
END:STANDARD
END:VTIMEZONE
END:VCALENDAR
