BEGIN:VCALENDAR
VERSION:2.0
PRODID:-//Plone.org//NONSGML plone.app.event//EN
X-WR-TIMEZONE:Europe/Berlin
BEGIN:VEVENT
SUMMARY:Schläfer
DTSTART;TZID=Europe/Berlin:20070213T203000
DTSTAMP:20260422T062327Z
UID:611b98eaa60c4d48a59ea671f008e2ef@zmi.spielboden.at
CREATED:20120822T144908Z
DESCRIPTION:Filmreihe: Die (neue) Berliner Schule
LAST-MODIFIED:20210809T123632Z
URL:https://zmi.spielboden.at/Plone/veranstaltungen/2007/02_februar/2007-0
 2-13-20-30-schlaefer
END:VEVENT
BEGIN:VTIMEZONE
TZID:Europe/Berlin
X-LIC-LOCATION:Europe/Berlin
BEGIN:STANDARD
DTSTART:20061029T020000
TZNAME:CET
TZOFFSETFROM:+0200
TZOFFSETTO:+0100
END:STANDARD
END:VTIMEZONE
END:VCALENDAR
