BEGIN:VCALENDAR
VERSION:2.0
PRODID:-//Plone.org//NONSGML plone.app.event//EN
X-WR-TIMEZONE:Europe/Berlin
BEGIN:VEVENT
SUMMARY:Kindertheater Pipifax - Der kleine Eisbär und der Angsthase
DTSTART;TZID=Europe/Berlin:20070210T150000
DTSTAMP:20260422T052906Z
UID:441e0bbc8a754e2999bf268c372ee5e1@zmi.spielboden.at
CREATED:20120822T144902Z
DESCRIPTION:Schauspiel-Figurentheater mit Musik ab 3 Jahren
LAST-MODIFIED:20210809T123630Z
URL:https://zmi.spielboden.at/Plone/veranstaltungen/2007/02_februar/2007-0
 2-10-15-00-kindertheater-pipifax-der-kleine-eisbaer-und-der-angsthase
END:VEVENT
BEGIN:VTIMEZONE
TZID:Europe/Berlin
X-LIC-LOCATION:Europe/Berlin
BEGIN:STANDARD
DTSTART:20061029T020000
TZNAME:CET
TZOFFSETFROM:+0200
TZOFFSETTO:+0100
END:STANDARD
END:VTIMEZONE
END:VCALENDAR
