BEGIN:VCALENDAR
VERSION:2.0
PRODID:-//Plone.org//NONSGML plone.app.event//EN
X-WR-TIMEZONE:Europe/Berlin
BEGIN:VEVENT
SUMMARY:Starbuck Holger Meins
DTSTART;TZID=Europe/Berlin:20070209T203000
DTSTAMP:20260422T052444Z
UID:5e52a044772948a7b6c374825320a093@zmi.spielboden.at
CREATED:20120822T144907Z
LAST-MODIFIED:20210809T123632Z
URL:https://zmi.spielboden.at/Plone/veranstaltungen/2007/02_februar/2007-0
 2-09-20-30-starbuck-holger-meins
END:VEVENT
BEGIN:VTIMEZONE
TZID:Europe/Berlin
X-LIC-LOCATION:Europe/Berlin
BEGIN:STANDARD
DTSTART:20061029T020000
TZNAME:CET
TZOFFSETFROM:+0200
TZOFFSETTO:+0100
END:STANDARD
END:VTIMEZONE
END:VCALENDAR
