BEGIN:VCALENDAR
VERSION:2.0
PRODID:-//Plone.org//NONSGML plone.app.event//EN
X-WR-TIMEZONE:Europe/Berlin
BEGIN:VEVENT
SUMMARY:RESFEST – A Decade of Resfest
DTSTART;TZID=Europe/Berlin:20070207T203000
DTSTAMP:20260422T070548Z
UID:a6fda57724e54c379b5068e73a61f115@zmi.spielboden.at
CREATED:20120822T144905Z
DESCRIPTION:10 Seminal Short Films
LAST-MODIFIED:20210809T123631Z
URL:https://zmi.spielboden.at/Plone/veranstaltungen/2007/02_februar/2007-0
 2-07-20-30-resfest-2013-a-decade-of-resfest
END:VEVENT
BEGIN:VTIMEZONE
TZID:Europe/Berlin
X-LIC-LOCATION:Europe/Berlin
BEGIN:STANDARD
DTSTART:20061029T020000
TZNAME:CET
TZOFFSETFROM:+0200
TZOFFSETTO:+0100
END:STANDARD
END:VTIMEZONE
END:VCALENDAR
