BEGIN:VCALENDAR
VERSION:2.0
PRODID:-//Plone.org//NONSGML plone.app.event//EN
X-WR-TIMEZONE:Europe/Berlin
BEGIN:VEVENT
SUMMARY:Alf Poier – Kill Eulenspiegel
DTSTART;TZID=Europe/Berlin:20070207T203000
DTSTAMP:20260422T062513Z
UID:1fb278cdd5a6433c90e6ca84cfe1d0f5@zmi.spielboden.at
CREATED:20120822T144857Z
DESCRIPTION:die Offenbarung eines Clowns.\nEmpfohlen ab 16 Jahren!\n
LAST-MODIFIED:20210809T123630Z
URL:https://zmi.spielboden.at/Plone/veranstaltungen/2007/02_februar/2007-0
 2-07-20-30-alf-poier-2013-kill-eulenspiegel
END:VEVENT
BEGIN:VTIMEZONE
TZID:Europe/Berlin
X-LIC-LOCATION:Europe/Berlin
BEGIN:STANDARD
DTSTART:20061029T020000
TZNAME:CET
TZOFFSETFROM:+0200
TZOFFSETTO:+0100
END:STANDARD
END:VTIMEZONE
END:VCALENDAR
