BEGIN:VCALENDAR
VERSION:2.0
PRODID:-//Plone.org//NONSGML plone.app.event//EN
X-WR-TIMEZONE:Europe/Berlin
BEGIN:VEVENT
SUMMARY:Jeunesse - Klänge des Apennin
DTSTART;TZID=Europe/Berlin:20070204T190000
DTSTAMP:20260422T062622Z
UID:7a1577e835824bcdaba3607eb78f8592@zmi.spielboden.at
CREATED:20120822T144901Z
LAST-MODIFIED:20120910T114127Z
URL:https://zmi.spielboden.at/Plone/veranstaltungen/2007/02_februar/2007-0
 2-04-19-00-jeunesse-klaenge-des-apennin
END:VEVENT
BEGIN:VTIMEZONE
TZID:Europe/Berlin
X-LIC-LOCATION:Europe/Berlin
BEGIN:STANDARD
DTSTART:20061029T020000
TZNAME:CET
TZOFFSETFROM:+0200
TZOFFSETTO:+0100
END:STANDARD
END:VTIMEZONE
END:VCALENDAR
