BEGIN:VCALENDAR
VERSION:2.0
PRODID:-//Plone.org//NONSGML plone.app.event//EN
X-WR-TIMEZONE:Europe/Berlin
BEGIN:VEVENT
SUMMARY:Monica Weinzettl & Gerold Rudle - PAARanoia
DTSTART;TZID=Europe/Berlin:20070203T203000
DTSTAMP:20260422T070610Z
UID:7b1ce0f81ec64b5f956fcc24cbb67df3@zmi.spielboden.at
CREATED:20120822T144859Z
DESCRIPTION:Vorarlbergpremiere!!
LAST-MODIFIED:20210809T123630Z
URL:https://zmi.spielboden.at/Plone/veranstaltungen/2007/02_februar/2007-0
 2-03-20-30-monica-weinzettl-gerold-rudle-paaranoia
END:VEVENT
BEGIN:VTIMEZONE
TZID:Europe/Berlin
X-LIC-LOCATION:Europe/Berlin
BEGIN:STANDARD
DTSTART:20061029T020000
TZNAME:CET
TZOFFSETFROM:+0200
TZOFFSETTO:+0100
END:STANDARD
END:VTIMEZONE
END:VCALENDAR
