BEGIN:VCALENDAR
VERSION:2.0
PRODID:-//Plone.org//NONSGML plone.app.event//EN
X-WR-TIMEZONE:Europe/Berlin
BEGIN:VEVENT
SUMMARY:Kindertheater Strombomboli - Pettersson und Findus
DTSTART;TZID=Europe/Berlin:20070203T150000
DTSTAMP:20260422T062852Z
UID:970978cb54584ca1968b3122fb8b81c6@zmi.spielboden.at
CREATED:20120822T144859Z
DESCRIPTION:Schauspieltheater mit Musik ab 4 Jahren
LAST-MODIFIED:20210809T123630Z
URL:https://zmi.spielboden.at/Plone/veranstaltungen/2007/02_februar/2007-0
 2-03-15-00-kindertheater-strombomboli-pettersson-und-findus
END:VEVENT
BEGIN:VTIMEZONE
TZID:Europe/Berlin
X-LIC-LOCATION:Europe/Berlin
BEGIN:STANDARD
DTSTART:20061029T020000
TZNAME:CET
TZOFFSETFROM:+0200
TZOFFSETTO:+0100
END:STANDARD
END:VTIMEZONE
END:VCALENDAR
