BEGIN:VCALENDAR
VERSION:2.0
PRODID:-//Plone.org//NONSGML plone.app.event//EN
X-WR-TIMEZONE:Europe/Berlin
BEGIN:VEVENT
SUMMARY:The Corporation
DTSTART;TZID=Europe/Berlin:20070202T203000
DTSTAMP:20260422T052338Z
UID:d9ba6a6ed437432b972eb6f4bc44ccc2@zmi.spielboden.at
CREATED:20120822T144905Z
LAST-MODIFIED:20210809T123631Z
URL:https://zmi.spielboden.at/Plone/veranstaltungen/2007/02_februar/2007-0
 2-02-20-30-the-corporation
END:VEVENT
BEGIN:VTIMEZONE
TZID:Europe/Berlin
X-LIC-LOCATION:Europe/Berlin
BEGIN:STANDARD
DTSTART:20061029T020000
TZNAME:CET
TZOFFSETFROM:+0200
TZOFFSETTO:+0100
END:STANDARD
END:VTIMEZONE
END:VCALENDAR
