BEGIN:VCALENDAR
VERSION:2.0
PRODID:-//Plone.org//NONSGML plone.app.event//EN
X-WR-TIMEZONE:Europe/Berlin
BEGIN:VEVENT
SUMMARY:The Corporation
DTSTART;TZID=Europe/Berlin:20070131T203000
DTSTAMP:20260422T052422Z
UID:5685761ff79d4d2eb5b6215a2312be4a@zmi.spielboden.at
CREATED:20120822T144856Z
LAST-MODIFIED:20210809T123629Z
URL:https://zmi.spielboden.at/Plone/veranstaltungen/2007/01_jaenner/2007-0
 1-31-20-30-the-corporation
END:VEVENT
BEGIN:VTIMEZONE
TZID:Europe/Berlin
X-LIC-LOCATION:Europe/Berlin
BEGIN:STANDARD
DTSTART:20061029T020000
TZNAME:CET
TZOFFSETFROM:+0200
TZOFFSETTO:+0100
END:STANDARD
END:VTIMEZONE
END:VCALENDAR
