BEGIN:VCALENDAR
VERSION:2.0
PRODID:-//Plone.org//NONSGML plone.app.event//EN
X-WR-TIMEZONE:Europe/Berlin
BEGIN:VEVENT
SUMMARY:Literatur & Gespräch - Robert Schindel\, Michael Köhlmeier & Rob
 ert Menasse
DTSTART;TZID=Europe/Berlin:20070127T203000
DTSTAMP:20260422T052645Z
UID:2593108848814305bd56d19c864ddd70@zmi.spielboden.at
CREATED:20120822T144849Z
LAST-MODIFIED:20210809T123905Z
URL:https://zmi.spielboden.at/Plone/veranstaltungen/2007/01_jaenner/2007-0
 1-27-20-30-literatur-gespraech-robert-schindel-michael-koehlmeier-robert-m
 enasse
END:VEVENT
BEGIN:VTIMEZONE
TZID:Europe/Berlin
X-LIC-LOCATION:Europe/Berlin
BEGIN:STANDARD
DTSTART:20061029T020000
TZNAME:CET
TZOFFSETFROM:+0200
TZOFFSETTO:+0100
END:STANDARD
END:VTIMEZONE
END:VCALENDAR
