BEGIN:VCALENDAR
VERSION:2.0
PRODID:-//Plone.org//NONSGML plone.app.event//EN
X-WR-TIMEZONE:Europe/Berlin
BEGIN:VEVENT
SUMMARY:Markus Linder – “Tasta La Vista” - PREMIERE
DTSTART;TZID=Europe/Berlin:20070125T203000
DTSTAMP:20260422T062846Z
UID:92e3942d59ad450e857f309fd40b95ce@zmi.spielboden.at
CREATED:20120822T144857Z
LAST-MODIFIED:20210809T123630Z
URL:https://zmi.spielboden.at/Plone/veranstaltungen/2007/01_jaenner/2007-0
 1-25-20-30-markus-linder-2013-201ctasta-la-vista201d-premiere
END:VEVENT
BEGIN:VTIMEZONE
TZID:Europe/Berlin
X-LIC-LOCATION:Europe/Berlin
BEGIN:STANDARD
DTSTART:20061029T020000
TZNAME:CET
TZOFFSETFROM:+0200
TZOFFSETTO:+0100
END:STANDARD
END:VTIMEZONE
END:VCALENDAR
