BEGIN:VCALENDAR
VERSION:2.0
PRODID:-//Plone.org//NONSGML plone.app.event//EN
X-WR-TIMEZONE:Europe/Berlin
BEGIN:VEVENT
SUMMARY:Exile Family Movie
DTSTART;TZID=Europe/Berlin:20070124T203000
DTSTAMP:20260422T035102Z
UID:b6719a0e44694e409c94072ed61f0aa3@zmi.spielboden.at
CREATED:20120822T144855Z
LAST-MODIFIED:20210809T123629Z
URL:https://zmi.spielboden.at/Plone/veranstaltungen/2007/01_jaenner/2007-0
 1-24-20-30-exile-family-movie
END:VEVENT
BEGIN:VTIMEZONE
TZID:Europe/Berlin
X-LIC-LOCATION:Europe/Berlin
BEGIN:STANDARD
DTSTART:20061029T020000
TZNAME:CET
TZOFFSETFROM:+0200
TZOFFSETTO:+0100
END:STANDARD
END:VTIMEZONE
END:VCALENDAR
