BEGIN:VCALENDAR
VERSION:2.0
PRODID:-//Plone.org//NONSGML plone.app.event//EN
X-WR-TIMEZONE:Europe/Berlin
BEGIN:VEVENT
SUMMARY:Winter of Devastation
DTSTART;TZID=Europe/Berlin:20070123T200000
DTSTAMP:20260422T040037Z
UID:356f978f5758498ba37eae5d1e8237f5@zmi.spielboden.at
CREATED:20120822T144850Z
LAST-MODIFIED:20210809T123628Z
URL:https://zmi.spielboden.at/Plone/veranstaltungen/2007/01_jaenner/2007-0
 1-23-20-00-winter-of-devastation
END:VEVENT
BEGIN:VTIMEZONE
TZID:Europe/Berlin
X-LIC-LOCATION:Europe/Berlin
BEGIN:STANDARD
DTSTART:20061029T020000
TZNAME:CET
TZOFFSETFROM:+0200
TZOFFSETTO:+0100
END:STANDARD
END:VTIMEZONE
END:VCALENDAR
