BEGIN:VCALENDAR
VERSION:2.0
PRODID:-//Plone.org//NONSGML plone.app.event//EN
X-WR-TIMEZONE:Europe/Berlin
BEGIN:VEVENT
SUMMARY:Joe Beck - John Abercrombie Duo
DTSTART;TZID=Europe/Berlin:20070120T203000
DTSTAMP:20260422T034944Z
UID:b294a7305d2e4876bcbeb59bc97369b5@zmi.spielboden.at
CREATED:20120822T144847Z
LAST-MODIFIED:20210809T123905Z
URL:https://zmi.spielboden.at/Plone/veranstaltungen/2007/01_jaenner/2007-0
 1-20-20-30-joe-beck-john-abercrombie-duo
END:VEVENT
BEGIN:VTIMEZONE
TZID:Europe/Berlin
X-LIC-LOCATION:Europe/Berlin
BEGIN:STANDARD
DTSTART:20061029T020000
TZNAME:CET
TZOFFSETFROM:+0200
TZOFFSETTO:+0100
END:STANDARD
END:VTIMEZONE
END:VCALENDAR
