BEGIN:VCALENDAR
VERSION:2.0
PRODID:-//Plone.org//NONSGML plone.app.event//EN
X-WR-TIMEZONE:Europe/Berlin
BEGIN:VEVENT
SUMMARY:RESFEST – Shorts 1
DTSTART;TZID=Europe/Berlin:20070119T203000
DTSTAMP:20260422T052417Z
UID:aae349485aaf47e883e1af9291bd6f31@zmi.spielboden.at
CREATED:20120822T144855Z
DESCRIPTION:State Of The Art
LAST-MODIFIED:20210809T123629Z
URL:https://zmi.spielboden.at/Plone/veranstaltungen/2007/01_jaenner/2007-0
 1-19-20-30-resfest-2013-shorts-1
END:VEVENT
BEGIN:VTIMEZONE
TZID:Europe/Berlin
X-LIC-LOCATION:Europe/Berlin
BEGIN:STANDARD
DTSTART:20061029T020000
TZNAME:CET
TZOFFSETFROM:+0200
TZOFFSETTO:+0100
END:STANDARD
END:VTIMEZONE
END:VCALENDAR
