BEGIN:VCALENDAR
VERSION:2.0
PRODID:-//Plone.org//NONSGML plone.app.event//EN
X-WR-TIMEZONE:Europe/Berlin
BEGIN:VEVENT
SUMMARY:RESFEST – Radiohead\, The Visionaries
DTSTART;TZID=Europe/Berlin:20070117T203000
DTSTAMP:20260422T040447Z
UID:d75d2327e74c4745846cd98656343605@zmi.spielboden.at
CREATED:20120822T144853Z
DESCRIPTION:A Decade Of Breaking New Talent
LAST-MODIFIED:20210809T123629Z
URL:https://zmi.spielboden.at/Plone/veranstaltungen/2007/01_jaenner/2007-0
 1-17-20-30-resfest-2013-radiohead-the-visionaries
END:VEVENT
BEGIN:VTIMEZONE
TZID:Europe/Berlin
X-LIC-LOCATION:Europe/Berlin
BEGIN:STANDARD
DTSTART:20061029T020000
TZNAME:CET
TZOFFSETFROM:+0200
TZOFFSETTO:+0100
END:STANDARD
END:VTIMEZONE
END:VCALENDAR
